BEGIN:VCALENDAR
VERSION:2.0
PRODID:-//Beacon - ECPv6.6.4.2//NONSGML v1.0//EN
CALSCALE:GREGORIAN
METHOD:PUBLISH
X-WR-CALNAME:Beacon
X-ORIGINAL-URL:https://www.beacon.community
X-WR-CALDESC:Events for Beacon
REFRESH-INTERVAL;VALUE=DURATION:PT1H
X-Robots-Tag:noindex
X-PUBLISHED-TTL:PT1H
BEGIN:VTIMEZONE
TZID:America/New_York
BEGIN:DAYLIGHT
TZOFFSETFROM:-0500
TZOFFSETTO:-0400
TZNAME:EDT
DTSTART:20210314T070000
END:DAYLIGHT
BEGIN:STANDARD
TZOFFSETFROM:-0400
TZOFFSETTO:-0500
TZNAME:EST
DTSTART:20211107T060000
END:STANDARD
END:VTIMEZONE
BEGIN:VEVENT
DTSTART;TZID=America/New_York:20210731T080000
DTEND;TZID=America/New_York:20210731T080000
DTSTAMP:20260422T180756
CREATED:20210712T104239Z
LAST-MODIFIED:20210713T193811Z
UID:1262-1627718400-1627718400@www.beacon.community
SUMMARY:Conversation with Tuck Admissions (8:00 AM)
DESCRIPTION:Note- July 13\, 2021 at 8:00 AM until 9:00 AM Eastern Daylight Time\nJoin a member from the Admissions Committee in this live online chat. We look forward to connecting with you in this small group Q&A session.
URL:https://www.beacon.community/event/conversation-with-tuck-admissions-800-am/
CATEGORIES:Tuck
ATTACH;FMTTYPE=image/png:https://www.beacon.community/wp-content/uploads/2021/07/QA.png
END:VEVENT
BEGIN:VEVENT
DTSTART;TZID=America/New_York:20210729T103000
DTEND;TZID=America/New_York:20210729T103000
DTSTAMP:20260422T180756
CREATED:20210712T104244Z
LAST-MODIFIED:20210713T193736Z
UID:1261-1627554600-1627554600@www.beacon.community
SUMMARY:Coffee Chat with the Director (10:30 AM)
DESCRIPTION:Note- July 12\, 2021 at 10:30 AM until 11:30 AM Eastern Daylight Time\nJoin Amy Mitson\, Executive Director of Tuck Admissions and Financial Aid in this live online chat. This is your opportunity to learn more about Tuck’s mission to educate wise leaders and gain valuable insight into the application process.
URL:https://www.beacon.community/event/coffee-chat-with-the-director-1030-am/
CATEGORIES:Tuck
ATTACH;FMTTYPE=image/png:https://www.beacon.community/wp-content/uploads/2021/07/financial-aid1.png
END:VEVENT
BEGIN:VEVENT
DTSTART;TZID=America/New_York:20210722T150000
DTEND;TZID=America/New_York:20210722T150000
DTSTAMP:20260422T180756
CREATED:20210712T104236Z
LAST-MODIFIED:20210715T082721Z
UID:1263-1626966000-1626966000@www.beacon.community
SUMMARY:Conversation with Tuck Admissions (3:00 PM)
DESCRIPTION:Note- July 13\, 2021 at 3:00 PM until 4:00 PM Eastern Daylight Time\nJoin a member from the Admissions Committee in this live online chat. We look forward to connecting with you in this small group Q&A session.
URL:https://www.beacon.community/event/conversation-with-tuck-admissions-300-pm/
CATEGORIES:Harvard Business School
ATTACH;FMTTYPE=image/png:https://www.beacon.community/wp-content/uploads/2021/07/financial-aid1.png
END:VEVENT
END:VCALENDAR